BEGIN:VCALENDAR
VERSION:2.0
PRODID:-//Northern Rivers Cutting Horse Club  - ECPv6.15.20//NONSGML v1.0//EN
CALSCALE:GREGORIAN
METHOD:PUBLISH
X-WR-CALNAME:Northern Rivers Cutting Horse Club 
X-ORIGINAL-URL:https://northernriverscuttinghorseclub.com.au
X-WR-CALDESC:Events for Northern Rivers Cutting Horse Club 
REFRESH-INTERVAL;VALUE=DURATION:PT1H
X-Robots-Tag:noindex
X-PUBLISHED-TTL:PT1H
BEGIN:VTIMEZONE
TZID:UTC
BEGIN:STANDARD
TZOFFSETFROM:+0000
TZOFFSETTO:+0000
TZNAME:UTC
DTSTART:20250101T000000
END:STANDARD
END:VTIMEZONE
BEGIN:VEVENT
DTSTART;VALUE=DATE:20260423
DTEND;VALUE=DATE:20260427
DTSTAMP:20260422T032835
CREATED:20260314T031241Z
LAST-MODIFIED:20260314T031241Z
UID:809-1776902400-1777247999@northernriverscuttinghorseclub.com.au
SUMMARY:NRCHC Upper Horton Championship Cutting Horse Show
DESCRIPTION:
URL:https://northernriverscuttinghorseclub.com.au/event/nrchc-upper-horton-championship-cutting-horse-show/
LOCATION:Upper Horton\, UPPER HORTON SHOWGROUND Cobbadah Rd\, Upper Horton
END:VEVENT
BEGIN:VEVENT
DTSTART;VALUE=DATE:20260626
DTEND;VALUE=DATE:20260629
DTSTAMP:20260422T032835
CREATED:20260314T031500Z
LAST-MODIFIED:20260314T031500Z
UID:811-1782432000-1782691199@northernriverscuttinghorseclub.com.au
SUMMARY:NRCHC Kyogle Championship Cutting Horse Show
DESCRIPTION:
URL:https://northernriverscuttinghorseclub.com.au/event/nrchc-kyogle-championship-cutting-horse-show/
LOCATION:Kyogle Showground
END:VEVENT
BEGIN:VEVENT
DTSTART;VALUE=DATE:20260904
DTEND;VALUE=DATE:20260907
DTSTAMP:20260422T032835
CREATED:20260314T031549Z
LAST-MODIFIED:20260314T031549Z
UID:813-1788480000-1788739199@northernriverscuttinghorseclub.com.au
SUMMARY:NRCHC Bonalbo Cutting Horse Show
DESCRIPTION:
URL:https://northernriverscuttinghorseclub.com.au/event/nrchc-bonalbo-cutting-horse-show/
END:VEVENT
BEGIN:VEVENT
DTSTART;VALUE=DATE:20260918
DTEND;VALUE=DATE:20260921
DTSTAMP:20260422T032835
CREATED:20260314T031703Z
LAST-MODIFIED:20260314T031703Z
UID:815-1789689600-1789948799@northernriverscuttinghorseclub.com.au
SUMMARY:NRCHC Woodenbong Cutting Horse Show
DESCRIPTION:
URL:https://northernriverscuttinghorseclub.com.au/event/nrchc-woodenbong-cutting-horse-show/
LOCATION:Woodenbong Showgrounds
END:VEVENT
END:VCALENDAR